BEGIN:VCALENDAR
VERSION:2.0
PRODID:-//AboutSoftware//Webinar//EN
BEGIN:VEVENT
UID:3@about-software.de
DTSTAMP:20260419T174629Z
DTSTART:20261212T100000Z
DTEND:20261212T110000Z
SUMMARY:Die Wachstumsfalle
DESCRIPTION:Join our live webinar!
END:VEVENT
END:VCALENDAR